BEGIN:VCALENDAR
VERSION:2.0
PRODID:Fietssport.nl
CALSCALE:GREGORIAN
BEGIN:VEVENT
DTSTART;TZID=Europe/Amsterdam:20260607T083000
DTEND;TZID=Europe/Amsterdam:20260607T100000
SUMMARY:Albert Heijn Tocht TFC Surhuisterveen 2026
URL:https://www.fietssport.nl/toertochten/59800
DESCRIPTION:Albert Heijn Tocht TFC Surhuisterveen 2026\n\nzondag 07 juni 2026\nDe Kolk 29 Surhuisterveen\nSurhuisterveen\n\nhttps://www.fietssport.nl/toertochten/59800
LOCATION:Surhuisterveen
BEGIN:VALARM
TRIGGER:-PT24H
DESCRIPTION:Herinnering - Albert Heijn Tocht TFC Surhuisterveen 2026
ACTION:DISPLAY
END:VALARM
END:VEVENT
END:VCALENDAR
