BEGIN:VCALENDAR
VERSION:2.0
PRODID:Fietssport.nl
CALSCALE:GREGORIAN
BEGIN:VEVENT
DTSTART;TZID=Europe/Amsterdam:20261025T083000
DTEND;TZID=Europe/Amsterdam:20261025T093000
SUMMARY:ATB Classic Scherpenheuvel-Hapert GRAVEL 2026
URL:https://www.fietssport.nl/toertochten/59772
DESCRIPTION:ATB Classic Scherpenheuvel-Hapert GRAVEL 2026\n\nzondag 25 oktober 2026\nIsabellaplein Scherpenheuvel. Belgievoor de basiliek\nScherpenheuvel Zichem Belgie\n\nhttps://www.fietssport.nl/toertochten/59772
LOCATION:Scherpenheuvel Zichem Belgie
BEGIN:VALARM
TRIGGER:-PT24H
DESCRIPTION:Herinnering - ATB Classic Scherpenheuvel-Hapert GRAVEL 2026
ACTION:DISPLAY
END:VALARM
END:VEVENT
END:VCALENDAR
