BEGIN:VCALENDAR
VERSION:2.0
PRODID:Fietssport.nl
CALSCALE:GREGORIAN
BEGIN:VEVENT
DTSTART;TZID=Europe/Amsterdam:20270306T083000
DTEND;TZID=Europe/Amsterdam:20270306T093000
SUMMARY:Parc Sandur Koude Spierentocht 2026
URL:https://www.fietssport.nl/toertochten/59708
DESCRIPTION:Parc Sandur Koude Spierentocht 2026\n\nzaterdag 06 maart 2027\nParc Sandur Centrum Sanduredreef 5 Emmen\nEmmen\n\nhttps://www.fietssport.nl/toertochten/59708
LOCATION:Emmen
BEGIN:VALARM
TRIGGER:-PT24H
DESCRIPTION:Herinnering - Parc Sandur Koude Spierentocht 2026
ACTION:DISPLAY
END:VALARM
END:VEVENT
END:VCALENDAR
