BEGIN:VCALENDAR
VERSION:2.0
PRODID:Fietssport.nl
CALSCALE:GREGORIAN
BEGIN:VEVENT
DTSTART;TZID=Europe/Amsterdam:20260222T083000
DTEND;TZID=Europe/Amsterdam:20260222T093000
SUMMARY:Airco Service Wintermarathon 2026
URL:https://www.fietssport.nl/toertochten/59703
DESCRIPTION:Airco Service Wintermarathon 2026\n\nzondag 22 februari 2026\nVerbindingsweg 1A\nLemelerveld\n\nhttps://www.fietssport.nl/toertochten/59703
LOCATION:Lemelerveld
BEGIN:VALARM
TRIGGER:-PT24H
DESCRIPTION:Herinnering - Airco Service Wintermarathon 2026
ACTION:DISPLAY
END:VALARM
END:VEVENT
END:VCALENDAR
