BEGIN:VCALENDAR
VERSION:2.0
PRODID:Fietssport.nl
CALSCALE:GREGORIAN
BEGIN:VEVENT
DTSTART;TZID=Europe/Amsterdam:20260627T120000
DTEND;TZID=Europe/Amsterdam:20260628T121500
SUMMARY:Coast to Coast Challenge 2026
URL:https://www.fietssport.nl/toertochten/59650
DESCRIPTION:Coast to Coast Challenge 2026\n\nzaterdag 27 juni 2026\nReitdiepskade 1A\nZoutkamp\n\nhttps://www.fietssport.nl/toertochten/59650
LOCATION:Zoutkamp
BEGIN:VALARM
TRIGGER:-PT24H
DESCRIPTION:Herinnering - Coast to Coast Challenge 2026
ACTION:DISPLAY
END:VALARM
END:VEVENT
END:VCALENDAR
