BEGIN:VCALENDAR
VERSION:2.0
PRODID:Fietssport.nl
CALSCALE:GREGORIAN
BEGIN:VEVENT
DTSTART;TZID=Europe/Amsterdam:20260913T090000
DTEND;TZID=Europe/Amsterdam:20260913T110000
SUMMARY:Lek en Vecht Toertocht
URL:https://www.fietssport.nl/toertochten/59647
DESCRIPTION:Lek en Vecht Toertocht\n\nzondag 13 september 2026\nPapelaan 126\nWeesp\n\nhttps://www.fietssport.nl/toertochten/59647
LOCATION:Weesp
BEGIN:VALARM
TRIGGER:-PT24H
DESCRIPTION:Herinnering - Lek en Vecht Toertocht
ACTION:DISPLAY
END:VALARM
END:VEVENT
END:VCALENDAR
