BEGIN:VCALENDAR
VERSION:2.0
PRODID:Fietssport.nl
CALSCALE:GREGORIAN
BEGIN:VEVENT
DTSTART;TZID=Europe/Amsterdam:20260607T083000
DTEND;TZID=Europe/Amsterdam:20260607T100000
SUMMARY:Berne Abdijbier Kachelders Toer - Graveltocht 2026
URL:https://www.fietssport.nl/toertochten/59637
DESCRIPTION:Berne Abdijbier Kachelders Toer - Graveltocht 2026\n\nzondag 07 juni 2026\nAbdijstraat 49\nHeeswijk-Dinther\n\nhttps://www.fietssport.nl/toertochten/59637
LOCATION:Heeswijk-Dinther
BEGIN:VALARM
TRIGGER:-PT24H
DESCRIPTION:Herinnering - Berne Abdijbier Kachelders Toer - Graveltocht 2026
ACTION:DISPLAY
END:VALARM
END:VEVENT
END:VCALENDAR
