BEGIN:VCALENDAR
VERSION:2.0
PRODID:Fietssport.nl
CALSCALE:GREGORIAN
BEGIN:VEVENT
DTSTART;TZID=Europe/Amsterdam:20261011T083000
DTEND;TZID=Europe/Amsterdam:20261011T084500
SUMMARY:Mountainbiketocht GordyksterBikeFest
URL:https://www.fietssport.nl/toertochten/59617
DESCRIPTION:Mountainbiketocht GordyksterBikeFest\n\nzondag 11 oktober 2026\nMientewei 2D\nGorredijk\n\nhttps://www.fietssport.nl/toertochten/59617
LOCATION:Gorredijk
BEGIN:VALARM
TRIGGER:-PT24H
DESCRIPTION:Herinnering - Mountainbiketocht GordyksterBikeFest
ACTION:DISPLAY
END:VALARM
END:VEVENT
END:VCALENDAR
