BEGIN:VCALENDAR
VERSION:2.0
PRODID:Fietssport.nl
CALSCALE:GREGORIAN
BEGIN:VEVENT
DTSTART;TZID=Europe/Amsterdam:20260906T100000
DTEND;TZID=Europe/Amsterdam:20260906T130000
SUMMARY:Goarretocht
URL:https://www.fietssport.nl/toertochten/59615
DESCRIPTION:Goarretocht\n\nzondag 06 september 2026\nLoaijersstrjitte 2\nGorredijk\n\nhttps://www.fietssport.nl/toertochten/59615
LOCATION:Gorredijk
BEGIN:VALARM
TRIGGER:-PT24H
DESCRIPTION:Herinnering - Goarretocht
ACTION:DISPLAY
END:VALARM
END:VEVENT
END:VCALENDAR
