BEGIN:VCALENDAR
VERSION:2.0
PRODID:Fietssport.nl
CALSCALE:GREGORIAN
BEGIN:VEVENT
DTSTART;TZID=Europe/Amsterdam:20260514T084500
DTEND;TZID=Europe/Amsterdam:20260514T110000
SUMMARY:16 Dorpentocht gravel 2026
URL:https://www.fietssport.nl/toertochten/59590
DESCRIPTION:16 Dorpentocht gravel 2026\n\ndonderdag 14 mei 2026\nHoge Zomerdijk 5\nJoure\n\nhttps://www.fietssport.nl/toertochten/59590
LOCATION:Joure
BEGIN:VALARM
TRIGGER:-PT24H
DESCRIPTION:Herinnering - 16 Dorpentocht gravel 2026
ACTION:DISPLAY
END:VALARM
END:VEVENT
END:VCALENDAR
