BEGIN:VCALENDAR
VERSION:2.0
PRODID:Fietssport.nl
CALSCALE:GREGORIAN
BEGIN:VEVENT
DTSTART;TZID=Europe/Amsterdam:20260823T100000
DTEND;TZID=Europe/Amsterdam:20260823T123000
SUMMARY:Bike+ tocht
URL:https://www.fietssport.nl/toertochten/59571
DESCRIPTION:Bike+ tocht\n\nzondag 23 augustus 2026\nDocfalaan 22 Oss (Hotel de Naaldhof)\nOss\n\nhttps://www.fietssport.nl/toertochten/59571
LOCATION:Oss
BEGIN:VALARM
TRIGGER:-PT24H
DESCRIPTION:Herinnering - Bike+ tocht
ACTION:DISPLAY
END:VALARM
END:VEVENT
END:VCALENDAR
