BEGIN:VCALENDAR
VERSION:2.0
PRODID:Fietssport.nl
CALSCALE:GREGORIAN
BEGIN:VEVENT
DTSTART;TZID=Europe/Amsterdam:20260514T090000
DTEND;TZID=Europe/Amsterdam:20260514T123000
SUMMARY:Gerard Vianen Classic 2026
URL:https://www.fietssport.nl/toertochten/59559
DESCRIPTION:Gerard Vianen Classic 2026\n\ndonderdag 14 mei 2026\nSportweg 6\nKockengen\n\nhttps://www.fietssport.nl/toertochten/59559
LOCATION:Kockengen
BEGIN:VALARM
TRIGGER:-PT24H
DESCRIPTION:Herinnering - Gerard Vianen Classic 2026
ACTION:DISPLAY
END:VALARM
END:VEVENT
END:VCALENDAR
