BEGIN:VCALENDAR
VERSION:2.0
PRODID:Fietssport.nl
CALSCALE:GREGORIAN
BEGIN:VEVENT
DTSTART;TZID=Europe/Amsterdam:20261231T083000
DTEND;TZID=Europe/Amsterdam:20261231T100000
SUMMARY:35e Heicom Oudejaarsveldtoertocht Cyclo 78 Wezep
URL:https://www.fietssport.nl/toertochten/59534
DESCRIPTION:35e Heicom Oudejaarsveldtoertocht Cyclo 78 Wezep\n\ndonderdag 31 december 2026\nVogelzang Veldweg\nHattemerbroek\n\nhttps://www.fietssport.nl/toertochten/59534
LOCATION:Hattemerbroek
BEGIN:VALARM
TRIGGER:-PT24H
DESCRIPTION:Herinnering - 35e Heicom Oudejaarsveldtoertocht Cyclo 78 Wezep
ACTION:DISPLAY
END:VALARM
END:VEVENT
END:VCALENDAR
