BEGIN:VCALENDAR
VERSION:2.0
PRODID:Fietssport.nl
CALSCALE:GREGORIAN
BEGIN:VEVENT
DTSTART;TZID=Europe/Amsterdam:20261108T083000
DTEND;TZID=Europe/Amsterdam:20261108T103000
SUMMARY:Land van Horne Bikefestival - MTB Toertocht
URL:https://www.fietssport.nl/toertochten/59526
DESCRIPTION:Land van Horne Bikefestival - MTB Toertocht\n\nzondag 08 november 2026\nPartycentrum De Sluis Industriekade 58\nWeert\n\nhttps://www.fietssport.nl/toertochten/59526
LOCATION:Weert
BEGIN:VALARM
TRIGGER:-PT24H
DESCRIPTION:Herinnering - Land van Horne Bikefestival - MTB Toertocht
ACTION:DISPLAY
END:VALARM
END:VEVENT
END:VCALENDAR
