BEGIN:VCALENDAR
VERSION:2.0
PRODID:Fietssport.nl
CALSCALE:GREGORIAN
BEGIN:VEVENT
DTSTART;TZID=Europe/Amsterdam:20260426T080000
DTEND;TZID=Europe/Amsterdam:20260426T093000
SUMMARY:Crocusrit 2026
URL:https://www.fietssport.nl/toertochten/59525
DESCRIPTION:Crocusrit 2026\n\nzondag 26 april 2026\nMarkt 26 (cafe de Bel)\nValkenswaard\n\nhttps://www.fietssport.nl/toertochten/59525
LOCATION:Valkenswaard
BEGIN:VALARM
TRIGGER:-PT24H
DESCRIPTION:Herinnering - Crocusrit 2026
ACTION:DISPLAY
END:VALARM
END:VEVENT
END:VCALENDAR
