BEGIN:VCALENDAR
VERSION:2.0
PRODID:Fietssport.nl
CALSCALE:GREGORIAN
BEGIN:VEVENT
DTSTART;TZID=Europe/Amsterdam:20260509T113000
DTEND;TZID=Europe/Amsterdam:20260509T123000
SUMMARY:Hooglander Gravel Festive
URL:https://www.fietssport.nl/toertochten/59515
DESCRIPTION:Hooglander Gravel Festive\n\nzaterdag 09 mei 2026\nDorpsstraat 1Aarle-Rixtel\nAarle-Rixtel\n\nhttps://www.fietssport.nl/toertochten/59515
LOCATION:Aarle-Rixtel
BEGIN:VALARM
TRIGGER:-PT24H
DESCRIPTION:Herinnering - Hooglander Gravel Festive
ACTION:DISPLAY
END:VALARM
END:VEVENT
END:VCALENDAR
