BEGIN:VCALENDAR
VERSION:2.0
PRODID:Fietssport.nl
CALSCALE:GREGORIAN
BEGIN:VEVENT
DTSTART;TZID=Europe/Amsterdam:20260823T080000
DTEND;TZID=Europe/Amsterdam:20260823T100000
SUMMARY:Leyetocht weg 2026
URL:https://www.fietssport.nl/toertochten/59503
DESCRIPTION:Leyetocht weg 2026\n\nzondag 23 augustus 2026\nVan Beringenstraat\nHelvoirt\n\nhttps://www.fietssport.nl/toertochten/59503
LOCATION:Helvoirt
BEGIN:VALARM
TRIGGER:-PT24H
DESCRIPTION:Herinnering - Leyetocht weg 2026
ACTION:DISPLAY
END:VALARM
END:VEVENT
END:VCALENDAR
