BEGIN:VCALENDAR
VERSION:2.0
PRODID:Fietssport.nl
CALSCALE:GREGORIAN
BEGIN:VEVENT
DTSTART;TZID=Europe/Amsterdam:20260531T080000
DTEND;TZID=Europe/Amsterdam:20260531T100000
SUMMARY:MeinRide 2026
URL:https://www.fietssport.nl/toertochten/59502
DESCRIPTION:MeinRide 2026\n\nzondag 31 mei 2026\nOude Keulsebaan 180\nRoermond\n\nhttps://www.fietssport.nl/toertochten/59502
LOCATION:Roermond
BEGIN:VALARM
TRIGGER:-PT24H
DESCRIPTION:Herinnering - MeinRide 2026
ACTION:DISPLAY
END:VALARM
END:VEVENT
END:VCALENDAR
