BEGIN:VCALENDAR
VERSION:2.0
PRODID:Fietssport.nl
CALSCALE:GREGORIAN
BEGIN:VEVENT
DTSTART;TZID=Europe/Amsterdam:20260722T130000
DTEND;TZID=Europe/Amsterdam:20260722T200000
SUMMARY:Sterrit TC Kloosterzande 2026
URL:https://www.fietssport.nl/toertochten/59492
DESCRIPTION:Sterrit TC Kloosterzande 2026\n\nwoensdag 22 juli 2026\nHulsterweg 47 Hotel de Linde\nKloosterzande\n\nhttps://www.fietssport.nl/toertochten/59492
LOCATION:Kloosterzande
BEGIN:VALARM
TRIGGER:-PT24H
DESCRIPTION:Herinnering - Sterrit TC Kloosterzande 2026
ACTION:DISPLAY
END:VALARM
END:VEVENT
END:VCALENDAR
