BEGIN:VCALENDAR
VERSION:2.0
PRODID:Fietssport.nl
CALSCALE:GREGORIAN
BEGIN:VEVENT
DTSTART;TZID=Europe/Amsterdam:20260606T080000
DTEND;TZID=Europe/Amsterdam:20260606T110000
SUMMARY:Toertocht 4 Duchenne
URL:https://www.fietssport.nl/toertochten/59491
DESCRIPTION:Toertocht 4 Duchenne\n\nzaterdag 06 juni 2026\nOude Havendijk\nHengstdijk\n\nhttps://www.fietssport.nl/toertochten/59491
LOCATION:Hengstdijk
BEGIN:VALARM
TRIGGER:-PT24H
DESCRIPTION:Herinnering - Toertocht 4 Duchenne
ACTION:DISPLAY
END:VALARM
END:VEVENT
END:VCALENDAR
