BEGIN:VCALENDAR
VERSION:2.0
PRODID:Fietssport.nl
CALSCALE:GREGORIAN
BEGIN:VEVENT
DTSTART;TZID=Europe/Amsterdam:20261231T090000
DTEND;TZID=Europe/Amsterdam:20261231T103000
SUMMARY:Gravel tocht memorial Jo Boerekamp 2026
URL:https://www.fietssport.nl/toertochten/59479
DESCRIPTION:Gravel tocht memorial Jo Boerekamp 2026\n\ndonderdag 31 december 2026\nKuilvenweg 15\nSomeren\n\nhttps://www.fietssport.nl/toertochten/59479
LOCATION:Someren
BEGIN:VALARM
TRIGGER:-PT24H
DESCRIPTION:Herinnering - Gravel tocht memorial Jo Boerekamp 2026
ACTION:DISPLAY
END:VALARM
END:VEVENT
END:VCALENDAR
