BEGIN:VCALENDAR
VERSION:2.0
PRODID:Fietssport.nl
CALSCALE:GREGORIAN
BEGIN:VEVENT
DTSTART;TZID=Europe/Amsterdam:20260614T080000
DTEND;TZID=Europe/Amsterdam:20260614T090000
SUMMARY:5HVLN Toertocht (Gravelbike) 2026
URL:https://www.fietssport.nl/toertochten/59470
DESCRIPTION:5HVLN Toertocht (Gravelbike) 2026\n\nzondag 14 juni 2026\nHerberg de Pot Potdijk 97475 SLMarkelo\nMarkelo\n\nhttps://www.fietssport.nl/toertochten/59470
LOCATION:Markelo
BEGIN:VALARM
TRIGGER:-PT24H
DESCRIPTION:Herinnering - 5HVLN Toertocht (Gravelbike) 2026
ACTION:DISPLAY
END:VALARM
END:VEVENT
END:VCALENDAR
