BEGIN:VCALENDAR
VERSION:2.0
PRODID:Fietssport.nl
CALSCALE:GREGORIAN
BEGIN:VEVENT
DTSTART;TZID=Europe/Amsterdam:20260516T090000
DTEND;TZID=Europe/Amsterdam:20260516T120000
SUMMARY:Gemeententocht 2026
URL:https://www.fietssport.nl/toertochten/59448
DESCRIPTION:Gemeententocht 2026\n\nzaterdag 16 mei 2026\nFreerk Bosgraafstraat 18\nBurgum\n\nhttps://www.fietssport.nl/toertochten/59448
LOCATION:Burgum
BEGIN:VALARM
TRIGGER:-PT24H
DESCRIPTION:Herinnering - Gemeententocht 2026
ACTION:DISPLAY
END:VALARM
END:VEVENT
END:VCALENDAR
