BEGIN:VCALENDAR
VERSION:2.0
PRODID:Fietssport.nl
CALSCALE:GREGORIAN
BEGIN:VEVENT
DTSTART;TZID=Europe/Amsterdam:20260630T090000
DTEND;TZID=Europe/Amsterdam:20260703T120000
SUMMARY:50e Fiets4daagse Wolvega
URL:https://www.fietssport.nl/toertochten/59426
DESCRIPTION:50e Fiets4daagse Wolvega\n\ndinsdag 30 juni 2026\nDeken Vaasstraat\nWolvega\n\nhttps://www.fietssport.nl/toertochten/59426
LOCATION:Wolvega
BEGIN:VALARM
TRIGGER:-PT24H
DESCRIPTION:Herinnering - 50e Fiets4daagse Wolvega
ACTION:DISPLAY
END:VALARM
END:VEVENT
END:VCALENDAR
