BEGIN:VCALENDAR
VERSION:2.0
PRODID:Fietssport.nl
CALSCALE:GREGORIAN
BEGIN:VEVENT
DTSTART;TZID=Europe/Amsterdam:20260628T090000
DTEND;TZID=Europe/Amsterdam:20260628T120000
SUMMARY:De Hanzekoers 2026
URL:https://www.fietssport.nl/toertochten/59389
DESCRIPTION:De Hanzekoers 2026\n\nzondag 28 juni 2026\nSint Olafstraat 3B\nDeventer\n\nhttps://www.fietssport.nl/toertochten/59389
LOCATION:Deventer
BEGIN:VALARM
TRIGGER:-PT24H
DESCRIPTION:Herinnering - De Hanzekoers 2026
ACTION:DISPLAY
END:VALARM
END:VEVENT
END:VCALENDAR
