BEGIN:VCALENDAR
VERSION:2.0
PRODID:Fietssport.nl
CALSCALE:GREGORIAN
BEGIN:VEVENT
DTSTART;TZID=Europe/Amsterdam:20260628T090000
DTEND;TZID=Europe/Amsterdam:20260628T110000
SUMMARY:Grebbetourtocht
URL:https://www.fietssport.nl/toertochten/59341
DESCRIPTION:Grebbetourtocht\n\nzondag 28 juni 2026\nClubhuis DTCDe Woerd 3b3972 KD Driebergen\nDriebergen\n\nhttps://www.fietssport.nl/toertochten/59341
LOCATION:Driebergen
BEGIN:VALARM
TRIGGER:-PT24H
DESCRIPTION:Herinnering - Grebbetourtocht
ACTION:DISPLAY
END:VALARM
END:VEVENT
END:VCALENDAR
