BEGIN:VCALENDAR
VERSION:2.0
PRODID:Fietssport.nl
CALSCALE:GREGORIAN
BEGIN:VEVENT
DTSTART;TZID=Europe/Amsterdam:20260503T090000
DTEND;TZID=Europe/Amsterdam:20260503T140000
SUMMARY:Rijn- en Lingetocht
URL:https://www.fietssport.nl/toertochten/59339
DESCRIPTION:Rijn- en Lingetocht\n\nzondag 03 mei 2026\nClubhuis DTCDe Woerd 3b3972 KD Driebergen\nDriebergen\n\nhttps://www.fietssport.nl/toertochten/59339
LOCATION:Driebergen
BEGIN:VALARM
TRIGGER:-PT24H
DESCRIPTION:Herinnering - Rijn- en Lingetocht
ACTION:DISPLAY
END:VALARM
END:VEVENT
END:VCALENDAR
