BEGIN:VCALENDAR
VERSION:2.0
PRODID:Fietssport.nl
CALSCALE:GREGORIAN
BEGIN:VEVENT
DTSTART;TZID=Europe/Amsterdam:20270606T080000
DTEND;TZID=Europe/Amsterdam:20270606T100000
SUMMARY:Verkorte VVV toertocht 2027
URL:https://www.fietssport.nl/toertochten/59321
DESCRIPTION:Verkorte VVV toertocht 2027\n\nzondag 06 juni 2027\nCafe de Bel Markt 26 Valkenswaard\nValkenswaard\n\nhttps://www.fietssport.nl/toertochten/59321
LOCATION:Valkenswaard
BEGIN:VALARM
TRIGGER:-PT24H
DESCRIPTION:Herinnering - Verkorte VVV toertocht 2027
ACTION:DISPLAY
END:VALARM
END:VEVENT
END:VCALENDAR
