BEGIN:VCALENDAR
VERSION:2.0
PRODID:Fietssport.nl
CALSCALE:GREGORIAN
BEGIN:VEVENT
DTSTART;TZID=Europe/Amsterdam:20260514T090000
DTEND;TZID=Europe/Amsterdam:20260514T110000
SUMMARY:Dauwtrappen tijdens de WF Naobertochten 2026
URL:https://www.fietssport.nl/toertochten/59319
DESCRIPTION:Dauwtrappen tijdens de WF Naobertochten 2026\n\ndonderdag 14 mei 2026\nRecreatiepark Het Winkel De Slingeweg 20.\nWinterswijk\n\nhttps://www.fietssport.nl/toertochten/59319
LOCATION:Winterswijk
BEGIN:VALARM
TRIGGER:-PT24H
DESCRIPTION:Herinnering - Dauwtrappen tijdens de WF Naobertochten 2026
ACTION:DISPLAY
END:VALARM
END:VEVENT
END:VCALENDAR
