BEGIN:VCALENDAR
VERSION:2.0
PRODID:Fietssport.nl
CALSCALE:GREGORIAN
BEGIN:VEVENT
DTSTART;TZID=Europe/Amsterdam:20260906T100000
DTEND;TZID=Europe/Amsterdam:20260906T120000
SUMMARY:WF Hamaland wandel- en fietstochten 2026
URL:https://www.fietssport.nl/toertochten/59318
DESCRIPTION:WF Hamaland wandel- en fietstochten 2026\n\nzondag 06 september 2026\nRecreatiepark Sevink Molen. Meddoseweg 40.\nWinterswijk\n\nhttps://www.fietssport.nl/toertochten/59318
LOCATION:Winterswijk
BEGIN:VALARM
TRIGGER:-PT24H
DESCRIPTION:Herinnering - WF Hamaland wandel- en fietstochten 2026
ACTION:DISPLAY
END:VALARM
END:VEVENT
END:VCALENDAR
