BEGIN:VCALENDAR
VERSION:2.0
PRODID:Fietssport.nl
CALSCALE:GREGORIAN
BEGIN:VEVENT
DTSTART;TZID=Europe/Amsterdam:20251214T090000
DTEND;TZID=Europe/Amsterdam:20251214T093000
SUMMARY:HRTC DOK - MTB Napoleontocht 2025
URL:https://www.fietssport.nl/toertochten/59307
DESCRIPTION:HRTC DOK - MTB Napoleontocht 2025\n\nzondag 14 december 2025\nGuldemondweg\nDen Helder\n\nhttps://www.fietssport.nl/toertochten/59307
LOCATION:Den Helder
BEGIN:VALARM
TRIGGER:-PT24H
DESCRIPTION:Herinnering - HRTC DOK - MTB Napoleontocht 2025
ACTION:DISPLAY
END:VALARM
END:VEVENT
END:VCALENDAR
