BEGIN:VCALENDAR
VERSION:2.0
PRODID:Fietssport.nl
CALSCALE:GREGORIAN
BEGIN:VEVENT
DTSTART;TZID=Europe/Amsterdam:20251116T083000
DTEND;TZID=Europe/Amsterdam:20251116T100000
SUMMARY:ATB Club Grenzeloos 2 landen toertocht 2025
URL:https://www.fietssport.nl/toertochten/59275
DESCRIPTION:ATB Club Grenzeloos 2 landen toertocht 2025\n\nzondag 16 november 2025\nMarkt 12\nVlodrop\n\nhttps://www.fietssport.nl/toertochten/59275
LOCATION:Vlodrop
BEGIN:VALARM
TRIGGER:-PT24H
DESCRIPTION:Herinnering - ATB Club Grenzeloos 2 landen toertocht 2025
ACTION:DISPLAY
END:VALARM
END:VEVENT
END:VCALENDAR
