BEGIN:VCALENDAR
VERSION:2.0
PRODID:Fietssport.nl
CALSCALE:GREGORIAN
BEGIN:VEVENT
DTSTART;TZID=Europe/Amsterdam:20260627T080000
DTEND;TZID=Europe/Amsterdam:20260627T081500
SUMMARY:Heavensride Race
URL:https://www.fietssport.nl/toertochten/58260
DESCRIPTION:Heavensride Race\n\nzaterdag 27 juni 2026\nOude Zutphenseweg 11\nVorden\n\nhttps://www.fietssport.nl/toertochten/58260
LOCATION:Vorden
BEGIN:VALARM
TRIGGER:-PT24H
DESCRIPTION:Herinnering - Heavensride Race
ACTION:DISPLAY
END:VALARM
END:VEVENT
END:VCALENDAR
