BEGIN:VCALENDAR
VERSION:2.0
PRODID:Fietssport.nl
CALSCALE:GREGORIAN
BEGIN:VEVENT
DTSTART;TZID=Europe/Amsterdam:20251116T074500
DTEND;TZID=Europe/Amsterdam:20251116T090000
SUMMARY:MTB Toertocht Texel 2025
URL:https://www.fietssport.nl/toertochten/57085
DESCRIPTION:MTB Toertocht Texel 2025\n\nzondag 16 november 2025\nPontweg 1\nTexel\n\nhttps://www.fietssport.nl/toertochten/57085
LOCATION:Texel
BEGIN:VALARM
TRIGGER:-PT24H
DESCRIPTION:Herinnering - MTB Toertocht Texel 2025
ACTION:DISPLAY
END:VALARM
END:VEVENT
END:VCALENDAR
