BEGIN:VCALENDAR
VERSION:2.0
PRODID:Fietssport.nl
CALSCALE:GREGORIAN
BEGIN:VEVENT
DTSTART;TZID=Europe/Amsterdam:20250712T100000
DTEND;TZID=Europe/Amsterdam:20250712T101500
SUMMARY:Gravel One Fifty
URL:https://www.fietssport.nl/toertochten/57032
DESCRIPTION:Gravel One Fifty\n\nzaterdag 12 juli 2025\nNorgerweg\nRoden\n\nhttps://www.fietssport.nl/toertochten/57032
LOCATION:Roden
BEGIN:VALARM
TRIGGER:-PT24H
DESCRIPTION:Herinnering - Gravel One Fifty
ACTION:DISPLAY
END:VALARM
END:VEVENT
END:VCALENDAR
