BEGIN:VCALENDAR
VERSION:2.0
PRODID:Fietssport.nl
CALSCALE:GREGORIAN
BEGIN:VEVENT
DTSTART;TZID=Europe/Amsterdam:20250831T090000
DTEND;TZID=Europe/Amsterdam:20250831T100000
SUMMARY:Lonneker Molentocht Gravel
URL:https://www.fietssport.nl/toertochten/57023
DESCRIPTION:Lonneker Molentocht Gravel\n\nzondag 31 augustus 2025\nSpolminkkamp 40\nEnschede\n\nhttps://www.fietssport.nl/toertochten/57023
LOCATION:Enschede
BEGIN:VALARM
TRIGGER:-PT24H
DESCRIPTION:Herinnering - Lonneker Molentocht Gravel
ACTION:DISPLAY
END:VALARM
END:VEVENT
END:VCALENDAR
