BEGIN:VCALENDAR
VERSION:2.0
PRODID:Fietssport.nl
CALSCALE:GREGORIAN
BEGIN:VEVENT
DTSTART;TZID=Europe/Amsterdam:20250831T080000
DTEND;TZID=Europe/Amsterdam:20250831T093000
SUMMARY:Lonneker Molentocht
URL:https://www.fietssport.nl/toertochten/57022
DESCRIPTION:Lonneker Molentocht\n\nzondag 31 augustus 2025\nSpolminkkamp 40\nEnschede\n\nhttps://www.fietssport.nl/toertochten/57022
LOCATION:Enschede
BEGIN:VALARM
TRIGGER:-PT24H
DESCRIPTION:Herinnering - Lonneker Molentocht
ACTION:DISPLAY
END:VALARM
END:VEVENT
END:VCALENDAR
