BEGIN:VCALENDAR
VERSION:2.0
PRODID:Fietssport.nl
CALSCALE:GREGORIAN
BEGIN:VEVENT
DTSTART;TZID=Europe/Amsterdam:20251109T090000
DTEND;TZID=Europe/Amsterdam:20251109T100000
SUMMARY:Gronings Mooiste 2025
URL:https://www.fietssport.nl/toertochten/56972
DESCRIPTION:Gronings Mooiste 2025\n\nzondag 09 november 2025\nCamping Moekesgat Heembadweg 17\nTer Apel\n\nhttps://www.fietssport.nl/toertochten/56972
LOCATION:Ter Apel
BEGIN:VALARM
TRIGGER:-PT24H
DESCRIPTION:Herinnering - Gronings Mooiste 2025
ACTION:DISPLAY
END:VALARM
END:VEVENT
END:VCALENDAR
