BEGIN:VCALENDAR
VERSION:2.0
PRODID:Fietssport.nl
CALSCALE:GREGORIAN
BEGIN:VEVENT
DTSTART;TZID=Europe/Amsterdam:20260531T083000
DTEND;TZID=Europe/Amsterdam:20260531T093000
SUMMARY:Wereldtocht
URL:https://www.fietssport.nl/toertochten/56943
DESCRIPTION:Wereldtocht\n\nzondag 31 mei 2026\nCenter Parcs Parc Sandur Sandurdreef 5 7828 AA Emmen\nSandurdreef 5 Emmen\n\nhttps://www.fietssport.nl/toertochten/56943
LOCATION:Sandurdreef 5 Emmen
BEGIN:VALARM
TRIGGER:-PT24H
DESCRIPTION:Herinnering - Wereldtocht
ACTION:DISPLAY
END:VALARM
END:VEVENT
END:VCALENDAR
