BEGIN:VCALENDAR
VERSION:2.0
PRODID:Fietssport.nl
CALSCALE:GREGORIAN
BEGIN:VEVENT
DTSTART;TZID=Europe/Amsterdam:20251116T063000
DTEND;TZID=Europe/Amsterdam:20251116T063000
SUMMARY:Dutch Masters of MTB 200 km Ultra-Marathon 2025
URL:https://www.fietssport.nl/toertochten/56914
DESCRIPTION:Dutch Masters of MTB 200 km Ultra-Marathon 2025\n\nzondag 16 november 2025\nHaarlerveldweg 1\nHaarle\n\nhttps://www.fietssport.nl/toertochten/56914
LOCATION:Haarle
BEGIN:VALARM
TRIGGER:-PT24H
DESCRIPTION:Herinnering - Dutch Masters of MTB 200 km Ultra-Marathon 2025
ACTION:DISPLAY
END:VALARM
END:VEVENT
END:VCALENDAR
