BEGIN:VCALENDAR
VERSION:2.0
PRODID:Fietssport.nl
CALSCALE:GREGORIAN
BEGIN:VEVENT
DTSTART;TZID=Europe/Amsterdam:20250907T083000
DTEND;TZID=Europe/Amsterdam:20250907T093000
SUMMARY:Bouwselect 1000 van Drenthe toertocht 2025
URL:https://www.fietssport.nl/toertochten/56633
DESCRIPTION:Bouwselect 1000 van Drenthe toertocht 2025\n\nzondag 07 september 2025\nBoddeveld 17\nGieten\n\nhttps://www.fietssport.nl/toertochten/56633
LOCATION:Gieten
BEGIN:VALARM
TRIGGER:-PT24H
DESCRIPTION:Herinnering - Bouwselect 1000 van Drenthe toertocht 2025
ACTION:DISPLAY
END:VALARM
END:VEVENT
END:VCALENDAR
