BEGIN:VCALENDAR
VERSION:2.0
PRODID:Fietssport.nl
CALSCALE:GREGORIAN
BEGIN:VEVENT
DTSTART;TZID=Europe/Amsterdam:20251102T083000
DTEND;TZID=Europe/Amsterdam:20251102T100000
SUMMARY:Helletocht 2025
URL:https://www.fietssport.nl/toertochten/56581
DESCRIPTION:Helletocht 2025\n\nzondag 02 november 2025\nPastoor Rudingpad 14 7587 AP De Lutte\nDe Lutte\n\nhttps://www.fietssport.nl/toertochten/56581
LOCATION:De Lutte
BEGIN:VALARM
TRIGGER:-PT24H
DESCRIPTION:Herinnering - Helletocht 2025
ACTION:DISPLAY
END:VALARM
END:VEVENT
END:VCALENDAR
