BEGIN:VCALENDAR
VERSION:2.0
PRODID:Fietssport.nl
CALSCALE:GREGORIAN
BEGIN:VEVENT
DTSTART;TZID=Europe/Amsterdam:20250531T090000
DTEND;TZID=Europe/Amsterdam:20250531T110000
SUMMARY:Erbens Vechtdal Toer 2025
URL:https://www.fietssport.nl/toertochten/56454
DESCRIPTION:Erbens Vechtdal Toer 2025\n\nzaterdag 31 mei 2025\nGerner Es 7c\nDalfsen\n\nhttps://www.fietssport.nl/toertochten/56454
LOCATION:Dalfsen
BEGIN:VALARM
TRIGGER:-PT24H
DESCRIPTION:Herinnering - Erbens Vechtdal Toer 2025
ACTION:DISPLAY
END:VALARM
END:VEVENT
END:VCALENDAR
