BEGIN:VCALENDAR
VERSION:2.0
PRODID:Fietssport.nl
CALSCALE:GREGORIAN
BEGIN:VEVENT
DTSTART;TZID=Europe/Amsterdam:20251231T083000
DTEND;TZID=Europe/Amsterdam:20251231T100000
SUMMARY:34e Heicom Oudejaarsveldtoertocht Cyclo 78 Wezep
URL:https://www.fietssport.nl/toertochten/56335
DESCRIPTION:34e Heicom Oudejaarsveldtoertocht Cyclo 78 Wezep\n\nwoensdag 31 december 2025\nVogelzangveldweg 50\nHattemerbroek\n\nhttps://www.fietssport.nl/toertochten/56335
LOCATION:Hattemerbroek
BEGIN:VALARM
TRIGGER:-PT24H
DESCRIPTION:Herinnering - 34e Heicom Oudejaarsveldtoertocht Cyclo 78 Wezep
ACTION:DISPLAY
END:VALARM
END:VEVENT
END:VCALENDAR
