BEGIN:VCALENDAR
VERSION:2.0
PRODID:Fietssport.nl
CALSCALE:GREGORIAN
BEGIN:VEVENT
DTSTART;TZID=Europe/Amsterdam:20251109T083000
DTEND;TZID=Europe/Amsterdam:20251109T103000
SUMMARY:Land van Horne MTB Toertocht Deluxe 2025
URL:https://www.fietssport.nl/toertochten/56317
DESCRIPTION:Land van Horne MTB Toertocht Deluxe 2025\n\nzondag 09 november 2025\nIndustriekade 58\nWeert\n\nhttps://www.fietssport.nl/toertochten/56317
LOCATION:Weert
BEGIN:VALARM
TRIGGER:-PT24H
DESCRIPTION:Herinnering - Land van Horne MTB Toertocht Deluxe 2025
ACTION:DISPLAY
END:VALARM
END:VEVENT
END:VCALENDAR
