BEGIN:VCALENDAR
VERSION:2.0
PRODID:Fietssport.nl
CALSCALE:GREGORIAN
BEGIN:VEVENT
DTSTART;TZID=Europe/Amsterdam:20251005T083000
DTEND;TZID=Europe/Amsterdam:20251005T100000
SUMMARY:Velo gravelride 60 Mijl van Meel 2025
URL:https://www.fietssport.nl/toertochten/56297
DESCRIPTION:Velo gravelride 60 Mijl van Meel 2025\n\nzondag 05 oktober 2025\nDorpsstraat 19\nMeijel\n\nhttps://www.fietssport.nl/toertochten/56297
LOCATION:Meijel
BEGIN:VALARM
TRIGGER:-PT24H
DESCRIPTION:Herinnering - Velo gravelride 60 Mijl van Meel 2025
ACTION:DISPLAY
END:VALARM
END:VEVENT
END:VCALENDAR
