BEGIN:VCALENDAR
VERSION:2.0
PRODID:Fietssport.nl
CALSCALE:GREGORIAN
BEGIN:VEVENT
DTSTART;TZID=Europe/Amsterdam:20241005T133000
DTEND;TZID=Europe/Amsterdam:20241005T133000
SUMMARY:Het Oranjepad
URL:https://www.fietssport.nl/toertochten/56216
DESCRIPTION:Het Oranjepad\n\nzaterdag 05 oktober 2024\nAmsterdamsestraatweg\nBaarn\n\nhttps://www.fietssport.nl/toertochten/56216
LOCATION:Baarn
BEGIN:VALARM
TRIGGER:-PT24H
DESCRIPTION:Herinnering - Het Oranjepad
ACTION:DISPLAY
END:VALARM
END:VEVENT
END:VCALENDAR
