BEGIN:VCALENDAR
VERSION:2.0
PRODID:Fietssport.nl
CALSCALE:GREGORIAN
BEGIN:VEVENT
DTSTART;TZID=Europe/Amsterdam:20241006T083000
DTEND;TZID=Europe/Amsterdam:20241006T100000
SUMMARY:Strade di Kokkie 2024
URL:https://www.fietssport.nl/toertochten/56042
DESCRIPTION:Strade di Kokkie 2024\n\nzondag 06 oktober 2024\nZwembadlaantje 8\nLemelerveld\n\nhttps://www.fietssport.nl/toertochten/56042
LOCATION:Lemelerveld
BEGIN:VALARM
TRIGGER:-PT24H
DESCRIPTION:Herinnering - Strade di Kokkie 2024
ACTION:DISPLAY
END:VALARM
END:VEVENT
END:VCALENDAR
