BEGIN:VCALENDAR
VERSION:2.0
PRODID:Fietssport.nl
CALSCALE:GREGORIAN
BEGIN:VEVENT
DTSTART;TZID=Europe/Amsterdam:20241020T093000
DTEND;TZID=Europe/Amsterdam:20241020T120000
SUMMARY:Oktober Bike Fest
URL:https://www.fietssport.nl/toertochten/56033
DESCRIPTION:Oktober Bike Fest\n\nzondag 20 oktober 2024\nBoerestreek\nAppelscha\n\nhttps://www.fietssport.nl/toertochten/56033
LOCATION:Appelscha
BEGIN:VALARM
TRIGGER:-PT24H
DESCRIPTION:Herinnering - Oktober Bike Fest
ACTION:DISPLAY
END:VALARM
END:VEVENT
END:VCALENDAR
