BEGIN:VCALENDAR
VERSION:2.0
PRODID:Fietssport.nl
CALSCALE:GREGORIAN
BEGIN:VEVENT
DTSTART;TZID=Europe/Amsterdam:20240929T091500
DTEND;TZID=Europe/Amsterdam:20240929T100000
SUMMARY:Oldejuje Buffeltocht 2024
URL:https://www.fietssport.nl/toertochten/55968
DESCRIPTION:Oldejuje Buffeltocht 2024\n\nzondag 29 september 2024\nHareweg 6a\nOldemarkt\n\nhttps://www.fietssport.nl/toertochten/55968
LOCATION:Oldemarkt
BEGIN:VALARM
TRIGGER:-PT24H
DESCRIPTION:Herinnering - Oldejuje Buffeltocht 2024
ACTION:DISPLAY
END:VALARM
END:VEVENT
END:VCALENDAR
